{"text_format":"3","workbook":"xlsx","n_sheets":20,"sheets":["ENE","FEB","MAR","I TRI","ABR","MAY","JUN","II TRI","I SEM","JUL","AGO","SET","III TRI","OCT","NOV","DIC","IV TRI","II SEM","ANU","Hoja17"],"not_rendered":{"defined_names":4},"read":"whole","date_system":"1900"}

{"sheet":"ENE","index":0,"n_rows":78,"n_cols":16,"rows_kept":78}
["REPORTE: Reporte 40",{"$nulls":3},"Desde: 01/01/2026",null,"Hasta: 31/01/2026"]
["Red: AREQUIPA CAYLLOMA",{"$nulls":3},"Departam: Todos"]
["Microred: GRLMO. SAN MARTIN",{"$nulls":3},"Provincia: Todos"]
["Establec: Todos",{"$nulls":3},"Distrito: Todos"]
[]
["id_microred","nombre_microred","id_establecimiento","nombre_establecimiento","id_personal","documento_personal","nombre_personal","descripcion_profesion","Atendidos_EESS","Atendidos_Servicio","Atenciones_TOTAL","Servicio_Nuevo","Servicio_Continuador","Servicio_Reingreso","APP","Animales"]
[15,"GRLMO. SAN MARTIN",1295,"GENERALISIMO SAN MARTIN",-386877329,29724378,"AGUILAR VIZCARRA, ANA ROSALYNN","BIOLOGO",26,88,183,36,95,52,0,0]
[15,"GRLMO. SAN MARTIN",1295,"GENERALISIMO SAN MARTIN",2033441903,44832044,"ALARCON PARI, LIZ MARIBEL","TECNICAS DE ENFERMERIA",10,19,23,12,4,7,0,0]
[15,"GRLMO. SAN MARTIN",1295,"GENERALISIMO SAN MARTIN",433354815,29297678,"ALAYZA OLAZAVAL, MARIA DEL CARMEN","ENFERMERA (O)",53,112,119,16,7,96,0,0]
[15,"GRLMO. SAN MARTIN",1295,"GENERALISIMO SAN MARTIN",1186747567,30835837,"ALEMAN VELASQUEZ, ELEANA LIZBETH","OBSTETRIZ",64,68,82,38,14,30,0,0]
[15,"GRLMO. SAN MARTIN",1295,"GENERALISIMO SAN MARTIN",-1249372433,29568849,"AQUINO SANCHEZ, MERCEDES ROSARIO","TECNICO DE LABORATORIO",133,224,267,58,43,166,0,0]
[15,"GRLMO. SAN MARTIN",1295,"GENERALISIMO SAN MARTIN",1976653999,29569871,"BACA QUISPE, VILMA AMALIA","ODONTOLOGO",58,96,148,20,52,76,0,0]
[15,"GRLMO. SAN MARTIN",1295,"GENERALISIMO SAN MARTIN",-1402322433,29566521,"BARREDA COAQUIRA, ANGEL WUILDER","PSICOLOGO",33,66,166,34,100,32,0,0]
[15,"GRLMO. SAN MARTIN",1295,"GENERALISIMO SAN MARTIN",-407073505,43131493,"BARRETO QUITO, JEAN CARLOS","MEDICO GENERAL",154,175,223,19,48,156,0,0]
[15,"GRLMO. SAN MARTIN",1295,"GENERALISIMO SAN MARTIN",1126523999,41293498,"BENGOA MONZON, YIMY YEYNERTH","MEDICO GENERAL",122,136,163,18,27,118,0,0]
[15,"GRLMO. SAN MARTIN",1295,"GENERALISIMO SAN MARTIN",-638092433,29213797,"CALCINA RAMOS, JUAN CARLOS","TECNICO SANEAMIENTO AMBIENTAL",8,10,26,6,16,4,18,17]
[15,"GRLMO. SAN MARTIN",1295,"GENERALISIMO SAN MARTIN",744995375,44024705,"CARRION ROMERO, GIOVANNA ROSMERY","ENFERMERA (O)",2,2,2,0,0,2,0,0]
[15,"GRLMO. SAN MARTIN",1295,"GENERALISIMO SAN MARTIN",-1098362433,29339209,"CHIRINOS BATALLANOS, JUANA ELENA","TECNICAS DE ENFERMERIA",5,14,24,6,10,8,0,0]
[15,"GRLMO. SAN MARTIN",1295,"GENERALISIMO SAN MARTIN",-1975543553,29380075,"CHOQUE FERNANDEZ, MARIA CONCEPCION","ENFERMERA (O)",34,105,132,37,27,68,1,0]
[15,"GRLMO. SAN MARTIN",1295,"GENERALISIMO SAN MARTIN",-1193492433,29264829,"CONDORI CHANCAHUAÑA, CATY MARGARITA","MEDICO GENERAL",4,6,11,0,5,6,0,0]
[15,"GRLMO. SAN MARTIN",1295,"GENERALISIMO SAN MARTIN",-1130816513,29583416,"COPAJA ROMERO, CARMEN TERESA","QUIMICO FARMACEUTICO",19,66,70,59,4,7,3,0]
[15,"GRLMO. SAN MARTIN",1295,"GENERALISIMO SAN MARTIN",-1078416513,40530119,"CORNEJO BLAS, FAVIOLA LIZ","OBSTETRIZ",81,92,128,31,36,61,0,0]
[15,"GRLMO. SAN MARTIN",1295,"GENERALISIMO SAN MARTIN",-2071662433,29361695,"FERIA TICONA, GREGORIA MARIA","OBSTETRIZ",50,60,83,20,23,40,0,0]
[15,"GRLMO. SAN MARTIN",1295,"GENERALISIMO SAN MARTIN",243727567,29512148,"HUILLCA CARLOS, AMALIA MARITZA","PSICOLOGO",44,66,125,32,59,34,0,0]
[15,"GRLMO. SAN MARTIN",1295,"GENERALISIMO SAN MARTIN",95207567,29711823,"INOFUENTE YUCRA, JOSE HENRY","NUTRICIONISTA",30,98,102,52,4,46,2,0]
[15,"GRLMO. SAN MARTIN",1295,"GENERALISIMO SAN MARTIN",1543823999,29685561,"LIMA CONDORI, JADY MARIBEL","TECNICAS DE ENFERMERIA",10,16,23,8,7,8,0,0]
[15,"GRLMO. SAN MARTIN",1295,"GENERALISIMO SAN MARTIN",-1062656513,29306670,"LLERENA HILARES, LUIS ALFREDO","ODONTOLOGO",82,110,153,19,43,91,0,0]
[15,"GRLMO. SAN MARTIN",1295,"GENERALISIMO SAN MARTIN",1870560015,46886011,"LOPEZ MAMANI, IVAN","MEDICO GENERAL",126,140,222,14,82,126,0,0]
[15,"GRLMO. SAN MARTIN",1295,"GENERALISIMO SAN MARTIN",-1808046513,29612815,"MACEDO RAMOS, PATRICIA MILAGROS","OBSTETRIZ",76,87,119,28,32,59,10,0]
[15,"GRLMO. SAN MARTIN",1295,"GENERALISIMO SAN MARTIN",1538364863,29277401,"MALAGA NEIRA, SONIA MELINA","ENFERMERA (O)",35,70,79,17,9,53,1,0]
[15,"GRLMO. SAN MARTIN",1295,"GENERALISIMO SAN MARTIN",-1528393553,29363384,"MORALES PACSI, GLADYS HERMELINDA","ENFERMERA (O)",22,72,85,24,13,48,1,0]
[15,"GRLMO. SAN MARTIN",1295,"GENERALISIMO SAN MARTIN",-1977103553,29635470,"MURILLO HIDALGO, DELIA NANCY","ENFERMERA (O)",63,125,164,33,39,92,2,0]
[15,"GRLMO. SAN MARTIN",1295,"GENERALISIMO SAN MARTIN",-1803106257,29673478,"NEUMAN RUIZ, SARA","TECNICAS DE ENFERMERIA",0,5,5,3,0,2,0,0]
[15,"GRLMO. SAN MARTIN",1295,"GENERALISIMO SAN MARTIN",-553236209,42796076,"OVIEDO CHAMBI, DIANA JHESSICA","ENFERMERA (O)",13,21,38,6,17,15,0,0]
[15,"GRLMO. SAN MARTIN",1295,"GENERALISIMO SAN MARTIN",-1142842433,29415091,"PACHECO MEJIA, ALFREDO ALFONSO","OBSTETRIZ",6,6,12,0,6,6,1,0]
[15,"GRLMO. SAN MARTIN",1295,"GENERALISIMO SAN MARTIN",-1655682433,29297896,"PRIETO SEGURA, PASTORA ELVIRA","OTROS NO ESPECIFICADOS",3,6,6,6,0,0,0,0]
[15,"GRLMO. SAN MARTIN",1295,"GENERALISIMO SAN MARTIN",-1063546513,29253738,"QUINTANILLA VALENCIA, CESAR ADOLFO GINO","ODONTOLOGO",29,46,72,10,26,36,0,0]
[15,"GRLMO. SAN MARTIN",1295,"GENERALISIMO SAN MARTIN",179667567,29674069,"RAMOS SUCAPUCA, FRIDA","NUTRICIONISTA",11,79,87,46,8,33,0,0]
[15,"GRLMO. SAN MARTIN",1295,"GENERALISIMO SAN MARTIN",2116657567,30674391,"REVILLA RODRIGUEZ, ADRIANA","TECNICAS DE ENFERMERIA",1,4,4,0,0,4,3,0]
[15,"GRLMO. SAN MARTIN",1295,"GENERALISIMO SAN MARTIN",155723999,29361610,"ROSADO ALVAREZ, JUAN SIXTO","MEDICO GENERAL",213,224,291,11,67,213,0,0]
[15,"GRLMO. SAN MARTIN",1295,"GENERALISIMO SAN MARTIN",-1238347537,72978578,"SALAS RODRIGUEZ, JOSE MANUEL","VETERINARIO",6,10,20,10,10,0,40,8]
[15,"GRLMO. SAN MARTIN",1295,"GENERALISIMO SAN MARTIN",-293733809,2427811,"SANCHO CHAVEZ, LINDA ZAYDA","OBSTETRIZ",64,76,225,36,149,40,22,0]
[15,"GRLMO. SAN MARTIN",1295,"GENERALISIMO SAN MARTIN",1171524863,29311095,"SUCA HUAQUIPACO, DORIS","OBSTETRIZ",73,79,120,22,41,57,0,0]
[15,"GRLMO. SAN MARTIN",1295,"GENERALISIMO SAN MARTIN",596347519,41751940,"TICONA QUISPE, MIRIAM PAULINA","TECNICAS DE ENFERMERIA",2,6,10,2,4,4,0,0]
[15,"GRLMO. SAN MARTIN",1295,"GENERALISIMO SAN MARTIN",-1050545697,1201564,"VELASQUEZ PEÑALOZA, SILVIA","ENFERMERA (O)",32,73,82,24,9,49,2,0]
[15,"GRLMO. SAN MARTIN",1295,"GENERALISIMO SAN MARTIN",-1089286513,29384663,"VILCAPE MENDOZA, PASCUALA LILY","TECNICAS DE ENFERMERIA",11,13,13,5,0,8,0,0]
[15,"GRLMO. SAN MARTIN",1309,"JERUSALEN",-386877315,29724378,"AGUILAR VIZCARRA, ANA ROSALYNN","BIOLOGO",17,55,100,23,45,32,1,0]
[15,"GRLMO. SAN MARTIN",1309,"JERUSALEN",1186747581,30835837,"ALEMAN VELASQUEZ, ELEANA LIZBETH","OBSTETRIZ",3,4,5,1,1,3,0,0]
[15,"GRLMO. SAN MARTIN",1309,"JERUSALEN",1972070237,71790605,"APAZA BUSTAMANTE, ANGELA","ENFERMERA (O)",62,83,101,15,18,68,2,0]
[15,"GRLMO. SAN MARTIN",1309,"JERUSALEN",-638092419,29213797,"CALCINA RAMOS, JUAN CARLOS","TECNICO SANEAMIENTO AMBIENTAL",1,1,1,1,0,0,0,0]
[15,"GRLMO. SAN MARTIN",1309,"JERUSALEN",-1789703539,29568941,"CARBAJAL ZEVALLOS, RAQUEL GLENY","ENFERMERA (O)",74,126,169,46,43,80,3,0]
[15,"GRLMO. SAN MARTIN",1309,"JERUSALEN",1834924877,29354607,"CARDENAS TICONA, ANGELICA MARILU","OBSTETRIZ",51,57,97,16,40,41,3,0]
[15,"GRLMO. SAN MARTIN",1309,"JERUSALEN",1071504877,29308907,"CHANI ORTIZ, MIGUEL ANGEL","MEDICO GENERAL",143,153,224,18,71,135,1,0]
[15,"GRLMO. SAN MARTIN",1309,"JERUSALEN",1491480541,9243413,"ECHEVARRIA GIRON, VICTOR ROSSI","AUXILIARES DE SALUD",4,5,15,5,10,0,0,0]
[15,"GRLMO. SAN MARTIN",1309,"JERUSALEN",-2071662419,29361695,"FERIA TICONA, GREGORIA MARIA","OBSTETRIZ",10,11,12,4,1,7,0,0]
[15,"GRLMO. SAN MARTIN",1309,"JERUSALEN",-440142419,29500618,"FLORES CERVANTES DE ZEBALLOS, MARI ARLENI","MEDICO GENERAL",194,210,272,22,62,188,0,0]
[15,"GRLMO. SAN MARTIN",1309,"JERUSALEN",380881661,70567091,"GARCIA MANRIQUE, DANGELO CESAR","TECNOLOGO MEDICO",6,45,49,15,4,30,0,0]
[15,"GRLMO. SAN MARTIN",1309,"JERUSALEN",95207581,29711823,"INOFUENTE YUCRA, JOSE HENRY","NUTRICIONISTA",9,14,14,6,0,8,0,0]
[15,"GRLMO. SAN MARTIN",1309,"JERUSALEN",5787581,29554775,"LLERENA NUÑEZ, JAVIER ANTONIO","ODONTOLOGO",2,4,4,1,0,3,0,0]
[15,"GRLMO. SAN MARTIN",1309,"JERUSALEN",-450857011,40362881,"LLERENA TORRES, JAQUELINE ROCCIE","TECNICAS DE ENFERMERIA",3,5,5,3,0,2,3,0]
[15,"GRLMO. SAN MARTIN",1309,"JERUSALEN",-114235683,2296968,"NINA HUAMAN, TIMOTEO","TECNICAS DE ENFERMERIA",4,5,5,2,0,3,0,0]
[15,"GRLMO. SAN MARTIN",1309,"JERUSALEN",-1238347523,72978578,"SALAS RODRIGUEZ, JOSE MANUEL","VETERINARIO",3,9,19,9,10,0,33,21]
[15,"GRLMO. SAN MARTIN",1309,"JERUSALEN",-293733795,2427811,"SANCHO CHAVEZ, LINDA ZAYDA","OBSTETRIZ",8,23,28,5,5,18,0,0]
[15,"GRLMO. SAN MARTIN",1309,"JERUSALEN",1171524877,29311095,"SUCA HUAQUIPACO, DORIS","OBSTETRIZ",6,6,6,1,0,5,0,0]
[15,"GRLMO. SAN MARTIN",1309,"JERUSALEN",1359130797,29606325,"TITO SANCHEZ, VIRGINIA ASUNTA","ENFERMERA (O)",69,109,138,29,29,80,2,0]
[15,"GRLMO. SAN MARTIN",1309,"JERUSALEN",-858292419,29377597,"VILLAFUERTE FUENTES DE VALDIVIA, GLADYS NELLY","OBSTETRIZ",68,84,123,18,39,66,12,0]
[15,"GRLMO. SAN MARTIN",7416,"EL MIRADOR",-638086312,29213797,"CALCINA RAMOS, JUAN CARLOS","TECNICO SANEAMIENTO AMBIENTAL",0,0,0,0,0,0,8,0]
[15,"GRLMO. SAN MARTIN",7416,"EL MIRADOR",-214677432,29650785,"CONDORI COLQUEHUANCA, MARIA MARISOL","ENFERMERA (O)",113,163,202,24,39,139,1,0]
[15,"GRLMO. SAN MARTIN",7416,"EL MIRADOR",-1078410392,40530119,"CORNEJO BLAS, FAVIOLA LIZ","OBSTETRIZ",10,11,16,5,5,6,0,0]
[15,"GRLMO. SAN MARTIN",7416,"EL MIRADOR",-1808040392,29612815,"MACEDO RAMOS, PATRICIA MILAGROS","OBSTETRIZ",4,5,5,0,0,5,0,0]
[15,"GRLMO. SAN MARTIN",7416,"EL MIRADOR",502643688,29629615,"MAYTA MEDINA, PAUL FERNANDO","MEDICO GENERAL",110,144,202,25,58,119,0,0]
[15,"GRLMO. SAN MARTIN",7416,"EL MIRADOR",-1303260952,30495660,"MEDINA GALLEGOS, EDITH MARILU","TECNICAS DE ENFERMERIA",4,10,24,9,14,1,4,0]
[15,"GRLMO. SAN MARTIN",7416,"EL MIRADOR",1458380680,40709328,"PEÑA SARAVIA, MARY LIZ MILUSKA","OBSTETRIZ",118,141,171,27,30,114,3,0]
[15,"GRLMO. SAN MARTIN",7416,"EL MIRADOR",-959281976,44635920,"QUEQUE JACHO, CLAUDIA ROXANA","ENFERMERA (O)",36,63,96,26,33,37,7,0]
[15,"GRLMO. SAN MARTIN",7416,"EL MIRADOR",-1238341416,72978578,"SALAS RODRIGUEZ, JOSE MANUEL","VETERINARIO",0,0,0,0,0,0,21,0]
[15,"GRLMO. SAN MARTIN",7416,"EL MIRADOR",1411360680,45826968,"STARKE MOSCOSO, ADRIANA VANESSA","ODONTOLOGO",48,164,182,52,18,112,0,0]
[15,"GRLMO. SAN MARTIN",7416,"EL MIRADOR",145533688,29467045,"TAYA YANARICO, GLADYS ELVA","TECNICAS DE ENFERMERIA",6,9,26,5,17,4,8,0]
[15,"GRLMO. SAN MARTIN",7416,"EL MIRADOR",-755430136,72775272,"TICONA VILLAJUAN, ZAIDA FIORELLA","ENFERMERA (O)",46,84,98,21,14,63,1,0]

{"sheet":"FEB","index":1,"n_rows":0,"n_cols":0,"rows_kept":0}

{"sheet":"MAR","index":2,"n_rows":0,"n_cols":0,"rows_kept":0}

{"sheet":"I TRI","index":3,"n_rows":0,"n_cols":0,"rows_kept":0}

{"sheet":"ABR","index":4,"n_rows":0,"n_cols":0,"rows_kept":0}

{"sheet":"MAY","index":5,"n_rows":0,"n_cols":0,"rows_kept":0}

{"sheet":"JUN","index":6,"n_rows":0,"n_cols":0,"rows_kept":0}

{"sheet":"II TRI","index":7,"n_rows":0,"n_cols":0,"rows_kept":0}

{"sheet":"I SEM","index":8,"n_rows":0,"n_cols":0,"rows_kept":0}

{"sheet":"JUL","index":9,"n_rows":0,"n_cols":0,"rows_kept":0}

{"sheet":"AGO","index":10,"n_rows":0,"n_cols":0,"rows_kept":0}

{"sheet":"SET","index":11,"n_rows":0,"n_cols":0,"rows_kept":0}

{"sheet":"III TRI","index":12,"n_rows":79,"n_cols":16,"rows_kept":79}
[15,"GRLMO. SAN MARTIN",1295,"GENERALISIMO SAN MARTIN",2033441903,44832044,"ALARCON PARI, LIZ MARIBEL","TECNICAS DE ENFERMERIA",7,15,40,13,25,2,0,0]
[15,"GRLMO. SAN MARTIN",1295,"GENERALISIMO SAN MARTIN",433354815,29297678,"ALAYZA OLAZAVAL, MARIA DEL CARMEN","ENFERMERA (O)",29,108,321,77,213,31,2,0]
[15,"GRLMO. SAN MARTIN",1295,"GENERALISIMO SAN MARTIN",1186747567,30835837,"ALEMAN VELASQUEZ, ELEANA LIZBETH","OBSTETRIZ",42,55,175,44,120,11,9,0]
[15,"GRLMO. SAN MARTIN",1295,"GENERALISIMO SAN MARTIN",-1249372433,29568849,"AQUINO SANCHEZ, MERCEDES ROSARIO","TECNICO DE LABORATORIO",72,289,530,152,241,137,0,0]
[15,"GRLMO. SAN MARTIN",1295,"GENERALISIMO SAN MARTIN",1976653999,29569871,"BACA QUISPE, VILMA AMALIA","ODONTOLOGO",45,99,411,67,312,32,0,0]
[15,"GRLMO. SAN MARTIN",1295,"GENERALISIMO SAN MARTIN",-1402322433,29566521,"BARREDA COAQUIRA, ANGEL WUILDER","PSICOLOGO",43,155,450,114,295,41,0,0]
[15,"GRLMO. SAN MARTIN",1295,"GENERALISIMO SAN MARTIN",-407073505,43131493,"BARRETO QUITO, JEAN CARLOS","MEDICO GENERAL",114,149,488,61,339,88,0,0]
[15,"GRLMO. SAN MARTIN",1295,"GENERALISIMO SAN MARTIN",1297744303,2409704,"BENAVENTE HUANCA, JULIA DORA","ASISTENTA SOCIAL",18,49,171,42,122,7,86,0]
[15,"GRLMO. SAN MARTIN",1295,"GENERALISIMO SAN MARTIN",1126523999,41293498,"BENGOA MONZON, YIMY YEYNERTH","MEDICO GENERAL",23,44,223,19,179,25,1,0]
[15,"GRLMO. SAN MARTIN",1295,"GENERALISIMO SAN MARTIN",-638092433,29213797,"CALCINA RAMOS, JUAN CARLOS","TECNICO SANEAMIENTO AMBIENTAL",14,27,78,22,51,5,43,42]
[15,"GRLMO. SAN MARTIN",1295,"GENERALISIMO SAN MARTIN",744995375,44024705,"CARRION ROMERO, GIOVANNA ROSMERY","ENFERMERA (O)",52,92,200,54,108,38,7,0]
[15,"GRLMO. SAN MARTIN",1295,"GENERALISIMO SAN MARTIN",1522924863,29238985,"CHAMA MONTES, JESUS AURELIO","MEDICO GENERAL",125,140,660,64,520,76,0,0]
[15,"GRLMO. SAN MARTIN",1295,"GENERALISIMO SAN MARTIN",1743498943,70321368,"CHAVEZ CALCIN, MILAGROS GUADALUPE","SERUMISTA PSICOLOGO",15,62,170,56,108,6,36,0]
[15,"GRLMO. SAN MARTIN",1295,"GENERALISIMO SAN MARTIN",-1098362433,29339209,"CHIRINOS BATALLANOS, JUANA ELENA","TECNICAS DE ENFERMERIA",14,32,52,29,20,3,0,0]
[15,"GRLMO. SAN MARTIN",1295,"GENERALISIMO SAN MARTIN",840217567,29724375,"CHOQUE CHOQUE, HAYDEE GUADALUPE","ASISTENTA SOCIAL",22,79,146,60,67,19,1,0]
[15,"GRLMO. SAN MARTIN",1295,"GENERALISIMO SAN MARTIN",-1975543553,29380075,"CHOQUE FERNANDEZ, MARIA CONCEPCION","ENFERMERA (O)",39,143,426,97,283,46,9,0]
[15,"GRLMO. SAN MARTIN",1295,"GENERALISIMO SAN MARTIN",-1193492433,29264829,"CONDORI CHANCAHUAÑA, CATY MARGARITA","MEDICO GENERAL",195,244,727,82,483,162,1,0]
[15,"GRLMO. SAN MARTIN",1295,"GENERALISIMO SAN MARTIN",-1130816513,29583416,"COPAJA ROMERO, CARMEN TERESA","QUIMICO FARMACEUTICO",1,6,12,4,6,2,0,0]
[15,"GRLMO. SAN MARTIN",1295,"GENERALISIMO SAN MARTIN",-1078416513,40530119,"CORNEJO BLAS, FAVIOLA LIZ","OBSTETRIZ",53,94,290,66,196,28,5,0]
[15,"GRLMO. SAN MARTIN",1295,"GENERALISIMO SAN MARTIN",-2071662433,29361695,"FERIA TICONA, GREGORIA MARIA","OBSTETRIZ",41,96,321,69,225,27,0,0]
[15,"GRLMO. SAN MARTIN",1295,"GENERALISIMO SAN MARTIN",1833354559,44667791,"GUILLEN HUAMANI, MARCO ANTONIO","ENFERMERA (O)",0,0,70,0,70,0,0,0]
[15,"GRLMO. SAN MARTIN",1295,"GENERALISIMO SAN MARTIN",917513743,29374733,"HUAMAN NOVA, LOURDES JUANA","ENFERMERA (O)",57,167,659,123,492,44,23,0]
[15,"GRLMO. SAN MARTIN",1295,"GENERALISIMO SAN MARTIN",243727567,29512148,"HUILLCA CARLOS, AMALIA MARITZA","TECNICO DE LABORATORIO",67,385,668,202,283,183,0,0]
[15,"GRLMO. SAN MARTIN",1295,"GENERALISIMO SAN MARTIN",95207567,29711823,"INOFUENTE YUCRA, JOSE HENRY","NUTRICIONISTA",6,76,133,57,57,19,10,0]
[15,"GRLMO. SAN MARTIN",1295,"GENERALISIMO SAN MARTIN",1543823999,29685561,"LIMA CONDORI, JADY MARIBEL","TECNICAS DE ENFERMERIA",10,31,47,28,16,3,0,0]
[15,"GRLMO. SAN MARTIN",1295,"GENERALISIMO SAN MARTIN",-1062656513,29306670,"LLERENA HILARES, LUIS ALFREDO","ODONTOLOGO",103,188,413,122,225,66,0,0]
[15,"GRLMO. SAN MARTIN",1295,"GENERALISIMO SAN MARTIN",1870560015,46886011,"LOPEZ MAMANI, IVAN","MEDICO GENERAL",19,28,360,13,332,15,0,0]
[15,"GRLMO. SAN MARTIN",1295,"GENERALISIMO SAN MARTIN",-1808046513,29612815,"MACEDO RAMOS, PATRICIA MILAGROS","OBSTETRIZ",44,74,221,54,147,20,21,0]
[15,"GRLMO. SAN MARTIN",1295,"GENERALISIMO SAN MARTIN",1538364863,29277401,"MALAGA NEIRA, SONIA MELINA","ENFERMERA (O)",26,80,355,53,275,27,3,0]
[15,"GRLMO. SAN MARTIN",1295,"GENERALISIMO SAN MARTIN",-1528393553,29363384,"MORALES PACSI, GLADYS HERMELINDA","ENFERMERA (O)",37,107,301,80,194,27,5,0]
[15,"GRLMO. SAN MARTIN",1295,"GENERALISIMO SAN MARTIN",-1977103553,29635470,"MURILLO HIDALGO, DELIA NANCY","ENFERMERA (O)",60,146,425,115,279,31,10,0]
[15,"GRLMO. SAN MARTIN",1295,"GENERALISIMO SAN MARTIN",-1803106257,29673478,"NEUMAN RUIZ, SARA","TECNICAS DE ENFERMERIA",2,12,39,9,27,3,0,0]
[15,"GRLMO. SAN MARTIN",1295,"GENERALISIMO SAN MARTIN",-553236209,42796076,"OVIEDO CHAMBI, DIANA JHESSICA","ENFERMERA (O)",39,108,361,83,253,25,1,0]
[15,"GRLMO. SAN MARTIN",1295,"GENERALISIMO SAN MARTIN",-1142842433,29415091,"PACHECO MEJIA, ALFREDO ALFONSO","OBSTETRIZ",39,52,219,38,167,14,3,0]
[15,"GRLMO. SAN MARTIN",1295,"GENERALISIMO SAN MARTIN",-1655682433,29297896,"PRIETO SEGURA, PASTORA ELVIRA","OTROS NO ESPECIFICADOS",3,19,32,18,13,1,0,0]
[15,"GRLMO. SAN MARTIN",1295,"GENERALISIMO SAN MARTIN",1182010015,46498725,"QUINO HUAMANI, JUDITH NATHALY","MEDICO GENERAL",25,30,200,13,170,17,0,0]
[15,"GRLMO. SAN MARTIN",1295,"GENERALISIMO SAN MARTIN",-1063546513,29253738,"QUINTANILLA VALENCIA, CESAR ADOLFO GINO","ODONTOLOGO",13,185,416,43,231,142,0,0]
[15,"GRLMO. SAN MARTIN",1295,"GENERALISIMO SAN MARTIN",-739962433,29378459,"QUISPE ARPI, TERESA","QUIMICO FARMACEUTICO",1,9,17,8,8,1,0,0]
[15,"GRLMO. SAN MARTIN",1295,"GENERALISIMO SAN MARTIN",179667567,29674069,"RAMOS SUCAPUCA, FRIDA","NUTRICIONISTA",33,147,260,123,113,24,8,0]
[15,"GRLMO. SAN MARTIN",1295,"GENERALISIMO SAN MARTIN",2116657567,30674391,"REVILLA RODRIGUEZ, ADRIANA","TECNICAS DE ENFERMERIA",2,10,15,5,5,5,0,0]
[15,"GRLMO. SAN MARTIN",1295,"GENERALISIMO SAN MARTIN",155723999,29361610,"ROSADO ALVAREZ, JUAN SIXTO","MEDICO GENERAL",177,218,932,49,714,169,0,0]
[15,"GRLMO. SAN MARTIN",1295,"GENERALISIMO SAN MARTIN",-1238347537,72978578,"SALAS RODRIGUEZ, JOSE MANUEL","OTROS NO ESPECIFICADOS",4,23,69,23,46,0,85,25]
[15,"GRLMO. SAN MARTIN",1295,"GENERALISIMO SAN MARTIN",1171524863,29311095,"SUCA HUAQUIPACO, DORIS","OBSTETRIZ",56,101,291,67,190,34,7,0]
[15,"GRLMO. SAN MARTIN",1295,"GENERALISIMO SAN MARTIN",-695777537,72665576,"TALAVERA OBANDO, DAYANE NICOLE","ENFERMERA (O)",0,0,9,0,9,0,0,0]
[15,"GRLMO. SAN MARTIN",1295,"GENERALISIMO SAN MARTIN",596347519,41751940,"TICONA QUISPE, MIRIAM PAULINA","TECNICAS DE ENFERMERIA",0,8,32,5,24,3,0,0]
[15,"GRLMO. SAN MARTIN",1295,"GENERALISIMO SAN MARTIN",1359130783,29606325,"TITO SANCHEZ, VIRGINIA ASUNTA","ENFERMERA (O)",11,30,65,25,35,5,17,0]
[15,"GRLMO. SAN MARTIN",1295,"GENERALISIMO SAN MARTIN",-1050545697,1201564,"VELASQUEZ PEÑALOZA, SILVIA","ENFERMERA (O)",21,66,238,49,172,17,9,0]
[15,"GRLMO. SAN MARTIN",1295,"GENERALISIMO SAN MARTIN",-1089286513,29384663,"VILCAPE MENDOZA, PASCUALA LILY","TECNICAS DE ENFERMERIA",3,13,38,11,25,2,0,0]
[15,"GRLMO. SAN MARTIN",1309,"JERUSALEN",-386877315,29724378,"AGUILAR VIZCARRA, ANA ROSALYNN","BIOLOGO",12,192,665,120,473,72,0,0]
[15,"GRLMO. SAN MARTIN",1309,"JERUSALEN",433354829,29297678,"ALAYZA OLAZAVAL, MARIA DEL CARMEN","ENFERMERA (O)",0,1,13,0,12,1,0,0]
[15,"GRLMO. SAN MARTIN",1309,"JERUSALEN",1186747581,30835837,"ALEMAN VELASQUEZ, ELEANA LIZBETH","OBSTETRIZ",0,0,4,0,4,0,0,0]
[15,"GRLMO. SAN MARTIN",1309,"JERUSALEN",1972070237,71790605,"APAZA BUSTAMANTE, ANGELA","ENFERMERA (O)",45,94,400,72,306,22,2,0]
[15,"GRLMO. SAN MARTIN",1309,"JERUSALEN",-407073491,43131493,"BARRETO QUITO, JEAN CARLOS","MEDICO GENERAL",26,33,98,6,65,27,0,0]
[15,"GRLMO. SAN MARTIN",1309,"JERUSALEN",-638092419,29213797,"CALCINA RAMOS, JUAN CARLOS","TECNICO SANEAMIENTO AMBIENTAL",3,3,9,3,6,0,3,28]
[15,"GRLMO. SAN MARTIN",1309,"JERUSALEN",-1789703539,29568941,"CARBAJAL ZEVALLOS, RAQUEL GLENY","ENFERMERA (O)",40,112,352,52,240,60,12,0]
[15,"GRLMO. SAN MARTIN",1309,"JERUSALEN",1834924877,29354607,"CARDENAS TICONA, ANGELICA MARILU","OBSTETRIZ",62,77,229,57,152,20,6,0]
[15,"GRLMO. SAN MARTIN",1309,"JERUSALEN",744995389,44024705,"CARRION ROMERO, GIOVANNA ROSMERY","ENFERMERA (O)",0,4,14,1,10,3,0,0]
[15,"GRLMO. SAN MARTIN",1309,"JERUSALEN",1071504877,29308907,"CHANI ORTIZ, MIGUEL ANGEL","MEDICO GENERAL",163,192,773,79,581,113,0,0]
[15,"GRLMO. SAN MARTIN",1309,"JERUSALEN",-1975543539,29380075,"CHOQUE FERNANDEZ, MARIA CONCEPCION","ENFERMERA (O)",1,2,6,2,4,0,0,0]
[15,"GRLMO. SAN MARTIN",1309,"JERUSALEN",1491480541,9243413,"ECHEVARRIA GIRON, VICTOR ROSSI","AUXILIARES DE SALUD",0,3,9,3,6,0,0,0]
[15,"GRLMO. SAN MARTIN",1309,"JERUSALEN",-2071662419,29361695,"FERIA TICONA, GREGORIA MARIA","OBSTETRIZ",1,3,5,2,2,1,0,0]
[15,"GRLMO. SAN MARTIN",1309,"JERUSALEN",-440142419,29500618,"FLORES CERVANTES DE ZEBALLOS, MARI ARLENI","MEDICO GENERAL",140,204,850,56,646,148,4,0]
[15,"GRLMO. SAN MARTIN",1309,"JERUSALEN",1833354573,44667791,"GUILLEN HUAMANI, MARCO ANTONIO","ENFERMERA (O)",0,0,44,0,44,0,0,0]
[15,"GRLMO. SAN MARTIN",1309,"JERUSALEN",917513757,29374733,"HUAMAN NOVA, LOURDES JUANA","ENFERMERA (O)",0,0,7,0,7,0,0,0]
[15,"GRLMO. SAN MARTIN",1309,"JERUSALEN",95207581,29711823,"INOFUENTE YUCRA, JOSE HENRY","NUTRICIONISTA",3,49,54,47,5,2,0,0]
[15,"GRLMO. SAN MARTIN",1309,"JERUSALEN",5787581,29554775,"LLERENA NUÑEZ, JAVIER ANTONIO","ODONTOLOGO",46,172,345,60,173,112,0,0]
[15,"GRLMO. SAN MARTIN",1309,"JERUSALEN",-450857011,40362881,"LLERENA TORRES, JAQUELINE ROCCIE","TECNICAS DE ENFERMERIA",4,18,20,12,2,6,9,0]
[15,"GRLMO. SAN MARTIN",1309,"JERUSALEN",1538364877,29277401,"MALAGA NEIRA, SONIA MELINA","ENFERMERA (O)",2,8,23,7,15,1,0,0]
[15,"GRLMO. SAN MARTIN",1309,"JERUSALEN",-1528393539,29363384,"MORALES PACSI, GLADYS HERMELINDA","ENFERMERA (O)",1,1,15,1,14,0,0,0]
[15,"GRLMO. SAN MARTIN",1309,"JERUSALEN",-1977103539,29635470,"MURILLO HIDALGO, DELIA NANCY","ENFERMERA (O)",1,2,11,2,9,0,0,0]
[15,"GRLMO. SAN MARTIN",1309,"JERUSALEN",-114235683,2296968,"NINA HUAMAN, TIMOTEO","TECNICAS DE ENFERMERIA",0,24,61,21,37,3,11,0]
[15,"GRLMO. SAN MARTIN",1309,"JERUSALEN",-553236195,42796076,"OVIEDO CHAMBI, DIANA JHESSICA","ENFERMERA (O)",2,7,32,6,25,1,0,0]
[15,"GRLMO. SAN MARTIN",1309,"JERUSALEN",179667581,29674069,"RAMOS SUCAPUCA, FRIDA","NUTRICIONISTA",1,12,13,12,1,0,1,0]
[15,"GRLMO. SAN MARTIN",1309,"JERUSALEN",-1238347523,72978578,"SALAS RODRIGUEZ, JOSE MANUEL","VETERINARIO",2,5,19,5,14,0,108,15]
[15,"GRLMO. SAN MARTIN",1309,"JERUSALEN",-293733795,2427811,"SANCHO CHAVEZ, LINDA ZAYDA","OBSTETRIZ",99,197,592,137,395,60,19,0]
[15,"GRLMO. SAN MARTIN",1309,"JERUSALEN",-695777523,72665576,"TALAVERA OBANDO, DAYANE NICOLE","ENFERMERA (O)",0,0,30,0,30,0,0,0]
[15,"GRLMO. SAN MARTIN",1309,"JERUSALEN",-1520423539,29290078,"TALAVERA VARGAS, ROSSANA AMANDINA","ENFERMERA (O)",57,161,475,117,314,44,5,0]
[15,"GRLMO. SAN MARTIN",1309,"JERUSALEN",-1050545683,1201564,"VELASQUEZ PEÑALOZA, SILVIA","ENFERMERA (O)",0,0,8,0,8,0,0,0]
[15,"GRLMO. SAN MARTIN",1309,"JERUSALEN",-858292419,29377597,"VILLAFUERTE FUENTES DE VALDIVIA, GLADYS NELLY","OBSTETRIZ",33,54,270,35,216,19,12,0]

{"sheet":"OCT","index":13,"n_rows":0,"n_cols":0,"rows_kept":0}

{"sheet":"NOV","index":14,"n_rows":0,"n_cols":0,"rows_kept":0}

{"sheet":"DIC","index":15,"n_rows":0,"n_cols":0,"rows_kept":0}

{"sheet":"IV TRI","index":16,"n_rows":0,"n_cols":0,"rows_kept":0}

{"sheet":"II SEM","index":17,"n_rows":0,"n_cols":0,"rows_kept":0}

{"sheet":"ANU","index":18,"n_rows":0,"n_cols":0,"rows_kept":0}

{"sheet":"Hoja17","index":19,"n_rows":22,"n_cols":32,"rows_kept":22,"merged":[[2,10,2,11],[2,14,2,15],[2,18,2,19],[2,22,2,23],[4,7,4,11],[4,12,4,16],[4,17,4,21],[4,22,4,26],[4,27,4,31]]}
["REPORTE: Reporte 40"]
["Red: AREQUIPA CAYLLOMA",{"$nulls":5},"TOTAL DE TURNOS",24,25,{"$nulls":15},"CS","PSJ","PSM","MR"]
["Microred: GRLMO. SAN MARTIN",{"$nulls":5},"HORAS POR TURNO",5,6,null,"HORAS TRABAJADAS EN ELMES",null,150,null,"ATC PACIENTE POR TURNO",null,10,null,"ATC PACIENTE POR MES",null,{"$f":"SUM(H2*Q3)","v":240},null,"POBLACION",null,14388,14388,7194,{"$f":"SUM(Y3:AA3)","v":35970}]
["Establec: Todos"]
[{"$nulls":7},"ENERO",{"$nulls":4},"FEBRERO",{"$nulls":4},"MARZO",{"$nulls":4},"ABRIL",{"$nulls":4},"MAYO"]
["id_microred","nombre_microred","NOMBRE EESS","ATC PACIENTE POR MES","ATC PACIENTE POR MES","RRHH","PROFESION","RRHH","ATC","APP","RENDIMIENTO","RRHH SUSTENTADO","RRHH","ATC","APP","RENDIMIENTO","RRHH SUSTENTADO","RRHH","ATC","APP","RENDIMIENTO","RRHH SUSTENTADO","RRHH","ATC","APP","RENDIMIENTO","RRHH SUSTENTADO","RRHH","ATC","APP","RENDIMIENTO","RRHH SUSTENTADO"]
[15,12,"GENERALISIMO SAN MARTIN",{"$f":"SUM(B7*25)","v":300},{"$f":"SUM(D7*F7)","v":1800},6,"MEDICO GENERAL",5,{"$f":"SUM(ENE!#REF!+ENE!#REF!+ENE!#REF!+ENE!#REF!+ENE!#REF!)","v":{"$error":"#REF!"}},null,{"$f":"SUM(I7*100/E7)","v":{"$error":"#REF!"}},{"$f":"SUM(I7/D7)","v":{"$error":"#REF!"}},6,{"$f":"SUM(FEB!#REF!+FEB!#REF!+FEB!#REF!+FEB!#REF!+FEB!#REF!+FEB!#REF!)","v":{"$error":"#REF!"}},null,{"$f":"SUM(N7*100/E7)","v":{"$error":"#REF!"}},{"$f":"SUM(N7/D7)","v":{"$error":"#REF!"}},3,{"$f":"SUM(MAR!#REF!+MAR!#REF!+MAR!#REF!+MAR!#REF!+MAR!#REF!+MAR!#REF!)","v":{"$error":"#REF!"}},null,{"$f":"SUM(S7*100/E7)","v":{"$error":"#REF!"}},{"$f":"SUM(S7/D7)","v":{"$error":"#REF!"}},5,{"$f":"SUM(ABR!#REF!+ABR!#REF!+ABR!#REF!+ABR!#REF!+ABR!#REF!+ABR!#REF!)","v":{"$error":"#REF!"}},null,{"$f":"SUM(X7*100/E7)","v":{"$error":"#REF!"}},{"$f":"SUM(X7/D7)","v":{"$error":"#REF!"}},6,{"$f":"SUM(MAY!#REF!+MAY!#REF!+MAY!#REF!+MAY!#REF!+MAY!#REF!+MAY!#REF!)","v":{"$error":"#REF!"}},{"$f":"SUM(ENE!#REF!)","v":{"$error":"#REF!"}},{"$f":"SUM(AC7*100/E7)","v":{"$error":"#REF!"}},{"$f":"SUM(AC7/D7)","v":{"$error":"#REF!"}}]
[null,12,"JERUSALEN",{"$f":"SUM(B8*25)","v":300},{"$f":"SUM(D8*F8)","v":600},2,"MEDICO GENERAL",2,{"$f":"SUM(ENE!#REF!+ENE!#REF!)","v":{"$error":"#REF!"}},null,{"$f":"SUM(I8*100/E8)","v":{"$error":"#REF!"}},{"$f":"SUM(I8/D8)","v":{"$error":"#REF!"}},2,{"$f":"SUM(FEB!#REF!+FEB!#REF!+FEB!#REF!)","v":{"$error":"#REF!"}},null,{"$f":"SUM(N8*100/E8)","v":{"$error":"#REF!"}},{"$f":"SUM(N8/D8)","v":{"$error":"#REF!"}},2,{"$f":"SUM(MAR!#REF!+MAR!#REF!)","v":{"$error":"#REF!"}},null,{"$f":"SUM(S8*100/E8)","v":{"$error":"#REF!"}},{"$f":"SUM(S8/D8)","v":{"$error":"#REF!"}},2,{"$f":"SUM(ABR!#REF!+ABR!#REF!+ABR!#REF!+ABR!#REF!)","v":{"$error":"#REF!"}},null,{"$f":"SUM(X8*100/E8)","v":{"$error":"#REF!"}},{"$f":"SUM(X8/D8)","v":{"$error":"#REF!"}},2,{"$f":"SUM(MAY!#REF!+MAY!#REF!+MAY!#REF!)","v":{"$error":"#REF!"}},0,{"$f":"SUM(AC8*100/E8)","v":{"$error":"#REF!"}},{"$f":"SUM(AC8/D8)","v":{"$error":"#REF!"}}]
[null,12,"EL MIRADOR",300,300,1,"MEDICO GENERAL",1,{"$f":"SUM(ENE!#REF!)","v":{"$error":"#REF!"}},null,{"$error":"#REF!"},{"$error":"#REF!"},1,{"$f":"SUM(FEB!#REF!)","v":{"$error":"#REF!"}},null,{"$error":"#REF!"},{"$error":"#REF!"},1,{"$f":"SUM(MAR!#REF!)","v":{"$error":"#REF!"}},null,{"$error":"#REF!"},{"$error":"#REF!"},1,{"$f":"SUM(ABR!#REF!)","v":{"$error":"#REF!"}},null,{"$error":"#REF!"},{"$error":"#REF!"},1,{"$f":"SUM(MAY!#REF!)","v":{"$error":"#REF!"}},0,{"$error":"#REF!"},{"$error":"#REF!"}]
[15,10,"GENERALISIMO SAN MARTIN",{"$f":"SUM(B10*25)","v":250},{"$f":"SUM(D10*F10)","v":2250},9,"ENFERMERA (O)",9,{"$f":"SUM(ENE!#REF!)","v":{"$error":"#REF!"}},null,{"$f":"SUM(I10*100/E10)","v":{"$error":"#REF!"}},{"$error":"#REF!"},8,{"$f":"SUM(FEB!#REF!+FEB!#REF!+FEB!#REF!+FEB!#REF!+FEB!#REF!+FEB!#REF!+FEB!#REF!+FEB!#REF!)","v":{"$error":"#REF!"}},null,{"$f":"SUM(N10*100/E10)","v":{"$error":"#REF!"}},{"$error":"#REF!"},9,{"$f":"SUM(MAR!#REF!+MAR!#REF!+MAR!#REF!+MAR!#REF!+MAR!#REF!+MAR!#REF!+MAR!#REF!+MAR!#REF!+MAR!#REF!+MAR!#REF!+MAR!#REF!)","v":{"$error":"#REF!"}},null,{"$f":"SUM(S10*100/E10)","v":{"$error":"#REF!"}},{"$error":"#REF!"},9,{"$f":"SUM(ABR!#REF!+ABR!#REF!+ABR!#REF!+ABR!#REF!+ABR!#REF!+ABR!#REF!+ABR!#REF!+ABR!#REF!+ABR!#REF!+ABR!#REF!+ABR!#REF!)","v":{"$error":"#REF!"}},null,{"$f":"SUM(X10*100/E10)","v":{"$error":"#REF!"}},{"$error":"#REF!"},9,{"$f":"SUM(MAY!#REF!+MAY!#REF!+MAY!#REF!+MAY!#REF!+MAY!#REF!+MAY!#REF!+MAY!#REF!+MAY!#REF!+MAY!#REF!+MAY!#REF!+MAY!#REF!)","v":{"$error":"#REF!"}},{"$f":"SUM(ENE!#REF!)","v":{"$error":"#REF!"}},{"$error":"#REF!"},{"$error":"#REF!"}]
[null,10,"JERUSALEN",{"$f":"SUM(B11*25)","v":250},750,3,"ENFERMERA (O)",3,{"$f":"SUM(ENE!#REF!+ENE!#REF!+ENE!#REF!+ENE!#REF!+ENE!#REF!)","v":{"$error":"#REF!"}},null,{"$f":"SUM(I11*100/E11)","v":{"$error":"#REF!"}},{"$error":"#REF!"},3,{"$f":"SUM(FEB!#REF!+FEB!#REF!)","v":{"$error":"#REF!"}},null,{"$f":"SUM(N11*100/E11)","v":{"$error":"#REF!"}},{"$error":"#REF!"},3,{"$f":"SUM(MAR!#REF!+MAR!#REF!+MAR!#REF!)","v":{"$error":"#REF!"}},null,{"$f":"SUM(S11*100/E11)","v":{"$error":"#REF!"}},{"$error":"#REF!"},3,{"$f":"SUM(ABR!#REF!+ABR!#REF!+ABR!#REF!+ABR!#REF!)","v":{"$error":"#REF!"}},null,{"$f":"SUM(X11*100/E11)","v":{"$error":"#REF!"}},{"$error":"#REF!"},3,{"$f":"SUM(MAY!#REF!+MAY!#REF!+MAY!#REF!+MAY!#REF!+MAY!#REF!)","v":{"$error":"#REF!"}},0,{"$error":"#REF!"},{"$error":"#REF!"}]
[null,10,"EL MIRADOR",250,500,2,"ENFERMERA (O)",2,{"$f":"SUM(ENE!#REF!+ENE!#REF!+ENE!#REF!)","v":{"$error":"#REF!"}},null,{"$error":"#REF!"},{"$error":"#REF!"},2,{"$f":"SUM(FEB!#REF!+FEB!#REF!+FEB!#REF!)","v":{"$error":"#REF!"}},null,{"$error":"#REF!"},{"$error":"#REF!"},2,{"$f":"SUM(MAR!#REF!+MAR!#REF!+MAR!#REF!)","v":{"$error":"#REF!"}},null,{"$error":"#REF!"},{"$error":"#REF!"},2,{"$f":"SUM(ABR!#REF!+ABR!#REF!+ABR!#REF!)","v":{"$error":"#REF!"}},null,{"$error":"#REF!"},{"$error":"#REF!"},2,{"$f":"SUM(MAY!#REF!+MAY!#REF!)","v":{"$error":"#REF!"}},0,{"$error":"#REF!"},{"$error":"#REF!"}]
[15,10,"GENERALISIMO SAN MARTIN",{"$f":"SUM(B13*25)","v":250},1750,7,"OBSTETRIZ",7,{"$f":"SUM(ENE!#REF!+ENE!#REF!+ENE!#REF!+ENE!#REF!+ENE!#REF!+ENE!#REF!)","v":{"$error":"#REF!"}},null,{"$f":"SUM(I13*100/E13)","v":{"$error":"#REF!"}},{"$f":"SUM(I13/D13)","v":{"$error":"#REF!"}},6,{"$f":"SUM(FEB!#REF!+FEB!#REF!+FEB!#REF!+FEB!#REF!+FEB!#REF!+FEB!#REF!)","v":{"$error":"#REF!"}},null,{"$f":"SUM(N13*100/E13)","v":{"$error":"#REF!"}},{"$f":"SUM(N13/D13)","v":{"$error":"#REF!"}},7,{"$f":"SUM(MAR!#REF!+MAR!#REF!+MAR!#REF!+MAR!#REF!+MAR!#REF!+MAR!#REF!)","v":{"$error":"#REF!"}},null,{"$f":"SUM(S13*100/E13)","v":{"$error":"#REF!"}},{"$f":"SUM(S13/D13)","v":{"$error":"#REF!"}},7,{"$f":"SUM(ABR!#REF!+ABR!#REF!+ABR!#REF!+ABR!#REF!+ABR!#REF!+ABR!#REF!)","v":{"$error":"#REF!"}},null,{"$f":"SUM(X13*100/E13)","v":{"$error":"#REF!"}},{"$f":"SUM(X13/D13)","v":{"$error":"#REF!"}},7,{"$f":"SUM(MAY!#REF!+MAY!#REF!+MAY!#REF!+MAY!#REF!+MAY!#REF!+MAY!#REF!)","v":{"$error":"#REF!"}},0,{"$error":"#REF!"},{"$f":"SUM(AC13/D13)","v":{"$error":"#REF!"}}]
[null,10,"JERUSALEN",{"$f":"SUM(B14*25)","v":250},500,2,"OBSTETRIZ",2,{"$f":"SUM(ENE!#REF!+ENE!#REF!+ENE!#REF!)","v":{"$error":"#REF!"}},null,{"$error":"#REF!"},{"$error":"#REF!"},2,{"$f":"SUM(FEB!#REF!+FEB!#REF!+FEB!#REF!+FEB!#REF!)","v":{"$error":"#REF!"}},null,{"$error":"#REF!"},{"$error":"#REF!"},2,{"$f":"SUM(MAR!#REF!+MAR!#REF!+MAR!#REF!)","v":{"$error":"#REF!"}},null,{"$error":"#REF!"},{"$error":"#REF!"},2,{"$f":"SUM(ABR!#REF!+ABR!#REF!+ABR!#REF!+ABR!#REF!+ABR!#REF!+ABR!#REF!)","v":{"$error":"#REF!"}},null,{"$error":"#REF!"},{"$error":"#REF!"},2,{"$f":"SUM(MAY!#REF!+MAY!#REF!+MAY!#REF!+MAY!#REF!)","v":{"$error":"#REF!"}},0,{"$error":"#REF!"},{"$error":"#REF!"}]
[null,10,"EL MIRADOR",250,250,1,"OBSTETRIZ",1,{"$f":"SUM(ENE!#REF!)","v":{"$error":"#REF!"}},null,{"$error":"#REF!"},{"$error":"#REF!"},1,{"$f":"SUM(FEB!#REF!+FEB!#REF!+FEB!#REF!+FEB!#REF!+FEB!#REF!+FEB!#REF!)","v":{"$error":"#REF!"}},null,{"$error":"#REF!"},{"$error":"#REF!"},1,{"$f":"SUM(MAR!#REF!)","v":{"$error":"#REF!"}},null,{"$error":"#REF!"},{"$error":"#REF!"},1,{"$f":"SUM(ABR!#REF!+ABR!#REF!+ABR!#REF!+ABR!#REF!+ABR!#REF!)","v":{"$error":"#REF!"}},null,{"$error":"#REF!"},{"$error":"#REF!"},1,{"$f":"SUM(MAY!#REF!+MAY!#REF!+MAY!#REF!+MAY!#REF!+MAY!#REF!)","v":{"$error":"#REF!"}},0,{"$error":"#REF!"},{"$error":"#REF!"}]
[15,7,"GENERALISIMO SAN MARTIN",{"$f":"SUM(B16*25)","v":175},525,3,"ODONTOLOGO",3,{"$f":"SUM(ENE!#REF!+ENE!#REF!+ENE!#REF!)","v":{"$error":"#REF!"}},null,{"$f":"SUM(I16*100/E16)","v":{"$error":"#REF!"}},{"$f":"SUM(I16/D16)","v":{"$error":"#REF!"}},3,{"$f":"SUM(FEB!#REF!+FEB!#REF!+FEB!#REF!)","v":{"$error":"#REF!"}},null,{"$f":"SUM(N16*100/E16)","v":{"$error":"#REF!"}},{"$f":"SUM(N16/D16)","v":{"$error":"#REF!"}},3,{"$f":"SUM(MAR!#REF!+MAR!#REF!)","v":{"$error":"#REF!"}},null,{"$f":"SUM(S16*100/E16)","v":{"$error":"#REF!"}},{"$f":"SUM(S16/D16)","v":{"$error":"#REF!"}},3,{"$f":"SUM(ABR!#REF!+ABR!#REF!+ABR!#REF!)","v":{"$error":"#REF!"}},null,{"$f":"SUM(X16*100/E16)","v":{"$error":"#REF!"}},{"$f":"SUM(X16/D16)","v":{"$error":"#REF!"}},3,{"$f":"SUM(MAY!#REF!+MAY!#REF!+MAY!#REF!)","v":{"$error":"#REF!"}},0,{"$error":"#REF!"},{"$f":"SUM(AC16/D16)","v":{"$error":"#REF!"}}]
[null,7,"JERUSALEN",{"$f":"SUM(B17*25)","v":175},175,1,"ODONTOLOGO",1,{"$f":"SUM(ENE!#REF!)","v":{"$error":"#REF!"}},null,{"$error":"#REF!"},{"$error":"#REF!"},1,220,null,125.71428571428571,{"v":1.2571428571428571,"d":"1.26"},1,{"$f":"SUM(MAR!#REF!)","v":{"$error":"#REF!"}},null,{"$error":"#REF!"},{"$error":"#REF!"},1,{"$f":"SUM(ABR!#REF!)","v":{"$error":"#REF!"}},null,{"$error":"#REF!"},{"$error":"#REF!"},1,{"$f":"SUM(MAY!#REF!)","v":{"$error":"#REF!"}},0,{"$error":"#REF!"},{"$error":"#REF!"}]
[null,7,"EL MIRADOR",175,175,1,"ODONTOLOGO",0,null,null,0,{"v":0,"d":"0.00"},0,null,null,0,{"v":0,"d":"0.00"},0,null,null,0,{"v":0,"d":"0.00"},1,{"$f":"SUM(ABR!#REF!)","v":{"$error":"#REF!"}},null,{"$error":"#REF!"},{"$error":"#REF!"},1,{"$f":"SUM(MAY!#REF!)","v":{"$error":"#REF!"}},0,{"$error":"#REF!"},{"$error":"#REF!"}]
[15,12,"GENERALISIMO SAN MARTIN",{"$f":"SUM(B19*25)","v":300},600,2,"NUTRICIONISTA",1,{"$f":"SUM(ENE!#REF!+ENE!#REF!)","v":{"$error":"#REF!"}},null,{"$f":"SUM(I19*100/E19)","v":{"$error":"#REF!"}},{"$f":"SUM(I19/D19)","v":{"$error":"#REF!"}},1,{"$f":"SUM(FEB!#REF!)","v":{"$error":"#REF!"}},null,{"$f":"SUM(N19*100/E19)","v":{"$error":"#REF!"}},{"$f":"SUM(N19/D19)","v":{"$error":"#REF!"}},3,{"$f":"SUM(MAR!#REF!+MAR!#REF!)","v":{"$error":"#REF!"}},null,{"$f":"SUM(S19*100/E19)","v":{"$error":"#REF!"}},{"$f":"SUM(S19/D19)","v":{"$error":"#REF!"}},3,{"$f":"SUM(ABR!#REF!+ABR!#REF!)","v":{"$error":"#REF!"}},null,{"$f":"SUM(X19*100/E19)","v":{"$error":"#REF!"}},{"$f":"SUM(X19/D19)","v":{"$error":"#REF!"}},3,{"$f":"SUM(MAY!#REF!+MAY!#REF!)","v":{"$error":"#REF!"}},0,{"$error":"#REF!"},{"$f":"SUM(AC19/D19)","v":{"$error":"#REF!"}}]
[null,12,"JERUSALEN",{"$f":"SUM(B20*25)","v":300},300,1,"NUTRICIONISTA",1,null,null,0,{"v":0,"d":"0.00"},1,null,null,0,{"v":0,"d":"0.00"},1,null,null,0,{"v":0,"d":"0.00"},1,null,null,0,{"v":0,"d":"0.00"},1,null,0,0,{"v":0,"d":"0.00"}]
[15,7,"GENERALISIMO SAN MARTIN",{"$f":"SUM(B21*25)","v":175},175,1,"PSICOLOGO",1,{"$f":"SUM(ENE!#REF!+ENE!#REF!+ENE!#REF!+ENE!#REF!)","v":{"$error":"#REF!"}},null,{"$f":"SUM(I21*100/E21)","v":{"$error":"#REF!"}},{"$f":"SUM(I21/D21)","v":{"$error":"#REF!"}},1,{"$f":"SUM(FEB!#REF!+FEB!#REF!+FEB!#REF!)","v":{"$error":"#REF!"}},null,{"$f":"SUM(N21*100/E21)","v":{"$error":"#REF!"}},{"$f":"SUM(N21/D21)","v":{"$error":"#REF!"}},1,{"$f":"SUM(MAR!#REF!+MAR!#REF!+MAR!#REF!+MAR!#REF!)","v":{"$error":"#REF!"}},null,{"$f":"SUM(S21*100/E21)","v":{"$error":"#REF!"}},{"$f":"SUM(S21/D21)","v":{"$error":"#REF!"}},1,{"$f":"SUM(ABR!#REF!+ABR!#REF!+ABR!#REF!+ABR!#REF!)","v":{"$error":"#REF!"}},null,{"$f":"SUM(X21*100/E21)","v":{"$error":"#REF!"}},{"$f":"SUM(X21/D21)","v":{"$error":"#REF!"}},1,{"$f":"SUM(MAY!#REF!+MAY!#REF!)","v":{"$error":"#REF!"}},0,{"$error":"#REF!"},{"$f":"SUM(AC21/D21)","v":{"$error":"#REF!"}}]
[null,7,"JERUSALEN",{"$f":"SUM(B22*25)","v":175},175,1,"PSICOLOGO",null,{"$f":"SUM(ENE!#REF!)","v":{"$error":"#REF!"}},null,{"$error":"#REF!"},{"$error":"#REF!"},{"$nulls":3},0,{"v":0,"d":"0.00"},{"$nulls":3},0,{"v":0,"d":"0.00"},null,{"$f":"SUM(ABR!#REF!)","v":{"$error":"#REF!"}},null,{"$error":"#REF!"},{"$error":"#REF!"},null,null,0,0,{"v":0,"d":"0.00"}]